BEGIN:VCALENDAR
VERSION:2.0
PRODID:-//ARTQ - ECPv5.1.4//NONSGML v1.0//EN
CALSCALE:GREGORIAN
METHOD:PUBLISH
X-WR-CALNAME:ARTQ
X-ORIGINAL-URL:https://artq.ca
X-WR-CALDESC:Événements pour ARTQ
BEGIN:VTIMEZONE
TZID:America/Toronto
BEGIN:DAYLIGHT
TZOFFSETFROM:-0500
TZOFFSETTO:-0400
TZNAME:EDT
DTSTART:20250309T070000
END:DAYLIGHT
BEGIN:STANDARD
TZOFFSETFROM:-0400
TZOFFSETTO:-0500
TZNAME:EST
DTSTART:20251102T060000
END:STANDARD
END:VTIMEZONE
BEGIN:VEVENT
DTSTART;VALUE=DATE:20250621
DTEND;VALUE=DATE:20250624
DTSTAMP:20260421T142203
CREATED:20250515T233207Z
LAST-MODIFIED:20250515T233207Z
UID:3746-1750467600-1750640399@artq.ca
SUMMARY:Tournoi provincial 14 ans
DESCRIPTION:Catégorie : U 14\nSanction : 2*\nÉpreuves : simple garçons et filles (limite de 16 garçons et 16 filles)\nPériode d’inscription : du lundi 5 mai à 12 h au mercredi 4 juin à 23 h 59\nCoût : 70 $\nInscription : sur le site de Tennis Québec (https://tq.tournamentsoftware.com/)\nInformation : noubiz@hotmail.com ou 418 833-7884 \n
URL:https://artq.ca/event/tournoi-provincial-14-ans-2/
LOCATION:Parc Maréchal-Joffre\, 6273 Rue des Airelles\, Charny\, G6X 3L4
CATEGORIES:Tournois
ORGANIZER;CN="Acad%C3%A9mie%20Hugues%20Laverdi%C3%A8re":MAILTO:noubiz@hotmail.com
END:VEVENT
END:VCALENDAR