BEGIN:VCALENDAR
VERSION:2.0
PRODID:-//ARTQ - ECPv5.1.4//NONSGML v1.0//EN
CALSCALE:GREGORIAN
METHOD:PUBLISH
X-WR-CALNAME:ARTQ
X-ORIGINAL-URL:https://artq.ca
X-WR-CALDESC:Événements pour ARTQ
BEGIN:VTIMEZONE
TZID:America/Toronto
BEGIN:DAYLIGHT
TZOFFSETFROM:-0500
TZOFFSETTO:-0400
TZNAME:EDT
DTSTART:20250309T070000
END:DAYLIGHT
BEGIN:STANDARD
TZOFFSETFROM:-0400
TZOFFSETTO:-0500
TZNAME:EST
DTSTART:20251102T060000
END:STANDARD
END:VTIMEZONE
BEGIN:VEVENT
DTSTART;VALUE=DATE:20250614
DTEND;VALUE=DATE:20250617
DTSTAMP:20260421T235409
CREATED:20250515T232150Z
LAST-MODIFIED:20250515T232150Z
UID:3743-1749862800-1750035599@artq.ca
SUMMARY:Tournoi provincial 16 ans
DESCRIPTION:Catégorie : U 16\nSanction : 3*\nÉpreuves : simple garçons et filles (limite de 16 garçons et 16 filles)\nPériode d’inscription : du lundi 28 avril à 12 h au mercredi 28 mai à 23 h 59\nCoût : 70 $\nInscription : sur le site de Tennis Québec (https://tq.tournamentsoftware.com/)\nInformation : noubiz@hotmail.com ou 418 833-7884 \n
URL:https://artq.ca/event/tournoi-provincial-16-ans-2/
LOCATION:Parc Maréchal-Joffre\, 6273 Rue des Airelles\, Charny\, G6X 3L4
CATEGORIES:Tournois
ORGANIZER;CN="Acad%C3%A9mie%20Hugues%20Laverdi%C3%A8re":MAILTO:noubiz@hotmail.com
END:VEVENT
END:VCALENDAR