BEGIN:VCALENDAR
VERSION:2.0
PRODID:-//ARTQ - ECPv5.1.4//NONSGML v1.0//EN
CALSCALE:GREGORIAN
METHOD:PUBLISH
X-WR-CALNAME:ARTQ
X-ORIGINAL-URL:https://artq.ca
X-WR-CALDESC:Événements pour ARTQ
BEGIN:VTIMEZONE
TZID:America/Toronto
BEGIN:DAYLIGHT
TZOFFSETFROM:-0500
TZOFFSETTO:-0400
TZNAME:EDT
DTSTART:20240310T070000
END:DAYLIGHT
BEGIN:STANDARD
TZOFFSETFROM:-0400
TZOFFSETTO:-0500
TZNAME:EST
DTSTART:20241103T060000
END:STANDARD
END:VTIMEZONE
BEGIN:VEVENT
DTSTART;TZID=America/Toronto:20240524T180000
DTEND;TZID=America/Toronto:20240524T210000
DTSTAMP:20260420T032613
CREATED:20240311T193347Z
LAST-MODIFIED:20240525T184806Z
UID:3614-1716573600-1716584400@artq.ca
SUMMARY:Stage de formation d’instructeur 2024 - ANNULÉ
DESCRIPTION:Dates : \nVendredi 10 mai (18h à 21h – Zoom)\nSamedi et dimanche 11-12 mai (9h à 17h – terrain)\nVendredi 24 mai (18h à 21h – Zoom)\nSamedi et dimanche 25-26 mai (9h à 17h – terrain) \nDate limite d’inscription : mercredi 17 avril 2024\nNombre de participants : entre 8 et 14\nDirecteur du stage : Hugues Laverdière (noubiz@hotmail.com)\nÂge requis : 16 ans ou plus avant la fin de l’année \n
URL:https://artq.ca/event/stage-de-formation-dinstructeur-2024-4/
LOCATION:Zoom
END:VEVENT
END:VCALENDAR