BEGIN:VCALENDAR
VERSION:2.0
PRODID:-//ARTQ - ECPv5.1.4//NONSGML v1.0//EN
CALSCALE:GREGORIAN
METHOD:PUBLISH
X-WR-CALNAME:ARTQ
X-ORIGINAL-URL:https://artq.ca
X-WR-CALDESC:Événements pour ARTQ
BEGIN:VTIMEZONE
TZID:America/Toronto
BEGIN:DAYLIGHT
TZOFFSETFROM:-0500
TZOFFSETTO:-0400
TZNAME:EDT
DTSTART:20240310T070000
END:DAYLIGHT
BEGIN:STANDARD
TZOFFSETFROM:-0400
TZOFFSETTO:-0500
TZNAME:EST
DTSTART:20241103T060000
END:STANDARD
END:VTIMEZONE
BEGIN:VEVENT
DTSTART;VALUE=DATE:20240406
DTEND;VALUE=DATE:20240409
DTSTAMP:20260420T043941
CREATED:20240323T195646Z
LAST-MODIFIED:20240323T195646Z
UID:3646-1712365200-1712537999@artq.ca
SUMMARY:Tournoi provincial 16 ans de Lévis
DESCRIPTION:Catégorie : U 16\, 3*\, garçons et filles\nInscription : sur le site de Tennis Québec (https://tq.tournamentsoftware.com/)\nDate d’nscriptions : du 11 au 21 mars 2024\nInformations : noubiz@hotmail.com ou 418 833-7884 \n
URL:https://artq.ca/event/tournoi-provincial-16-ans-de-levis/
LOCATION:Cité Sportive\, 345\, rue Aubert\, Lévis\, QC\, G6C 1K7\, Canada
CATEGORIES:Tournois
ORGANIZER;CN="Acad%C3%A9mie%20Hugues%20Laverdi%C3%A8re":MAILTO:noubiz@hotmail.com
END:VEVENT
END:VCALENDAR