BEGIN:VCALENDAR
VERSION:2.0
PRODID:-//ARTQ - ECPv5.1.4//NONSGML v1.0//EN
CALSCALE:GREGORIAN
METHOD:PUBLISH
X-WR-CALNAME:ARTQ
X-ORIGINAL-URL:https://artq.ca
X-WR-CALDESC:Événements pour ARTQ
BEGIN:VTIMEZONE
TZID:America/Toronto
BEGIN:DAYLIGHT
TZOFFSETFROM:-0500
TZOFFSETTO:-0400
TZNAME:EDT
DTSTART:20230312T070000
END:DAYLIGHT
BEGIN:STANDARD
TZOFFSETFROM:-0400
TZOFFSETTO:-0500
TZNAME:EST
DTSTART:20231105T060000
END:STANDARD
END:VTIMEZONE
BEGIN:VEVENT
DTSTART;VALUE=DATE:20230819
DTEND;VALUE=DATE:20230827
DTSTAMP:20260422T111639
CREATED:20230305T165010Z
LAST-MODIFIED:20230305T165150Z
UID:3514-1692406800-1693011599@artq.ca
SUMMARY:Championnat de double de Lévis
DESCRIPTION:Épreuves : double femmes\, hommes et mixte\nType de tournoi et catégories : simple élimination\, A et B\n2 matchs assurés\nCoût : 30 $ par joueur\nInscription : clubtennisbreakeyville.com\nDate limite d’inscription : mardi 15 août\nContact : 418 832-9955 ou clubtennisbreakeyville@outlook.com \n
URL:https://artq.ca/event/championnat-de-double-de-levis-2/
LOCATION:Club de tennis Breakeyville\, 47\, rue Sainte-Hélène\, Lévis\, QC\, G6Z 7L3
CATEGORIES:Tournois
ORGANIZER;CN="Club%20de%20tennis%20de%20Breakeyville":MAILTO:clubtennisbreakeyville@outlook.com
END:VEVENT
END:VCALENDAR