BEGIN:VCALENDAR
VERSION:2.0
PRODID:-//ARTQ - ECPv5.1.4//NONSGML v1.0//EN
CALSCALE:GREGORIAN
METHOD:PUBLISH
X-WR-CALNAME:ARTQ
X-ORIGINAL-URL:https://artq.ca
X-WR-CALDESC:Événements pour ARTQ
BEGIN:VTIMEZONE
TZID:America/Toronto
BEGIN:DAYLIGHT
TZOFFSETFROM:-0500
TZOFFSETTO:-0400
TZNAME:EDT
DTSTART:20230312T070000
END:DAYLIGHT
BEGIN:STANDARD
TZOFFSETFROM:-0400
TZOFFSETTO:-0500
TZNAME:EST
DTSTART:20231105T060000
END:STANDARD
END:VTIMEZONE
BEGIN:VEVENT
DTSTART;VALUE=DATE:20230729
DTEND;VALUE=DATE:20230808
DTSTAMP:20260422T122250
CREATED:20230321T194931Z
LAST-MODIFIED:20230321T194931Z
UID:3524-1690592400-1691369999@artq.ca
SUMMARY:Championnat régional en simple Fradette Sport
DESCRIPTION:Surface : terre battue\nCatégories : Simple masculin et féminin AA\, A\, B\, C\nCoût : 35 $ / catégorie\, et 60 $ pour deux catégories\nBalles fournies\, 2 matchs garantis\nDate limite d’inscription : mardi 25 juillet\nInscription (via site web) : tennisats.quebec/tournois\nInformation : 581 300-4323 ou info@tennisats.quebec \n
URL:https://artq.ca/event/championnat-regional-en-simple-fradette-sport-2/
LOCATION:Parc St-Charles-Garnier et parc Falaise\, Sillery\, Canada
CATEGORIES:Tournois
ORGANIZER;CN="ATS":MAILTO:info@tennisats.quebec
END:VEVENT
END:VCALENDAR