BEGIN:VCALENDAR
VERSION:2.0
PRODID:-//ARTQ - ECPv5.1.4//NONSGML v1.0//EN
CALSCALE:GREGORIAN
METHOD:PUBLISH
X-WR-CALNAME:ARTQ
X-ORIGINAL-URL:https://artq.ca
X-WR-CALDESC:Événements pour ARTQ
BEGIN:VTIMEZONE
TZID:America/Toronto
BEGIN:DAYLIGHT
TZOFFSETFROM:-0500
TZOFFSETTO:-0400
TZNAME:EDT
DTSTART:20230312T070000
END:DAYLIGHT
BEGIN:STANDARD
TZOFFSETFROM:-0400
TZOFFSETTO:-0500
TZNAME:EST
DTSTART:20231105T060000
END:STANDARD
END:VTIMEZONE
BEGIN:VEVENT
DTSTART;VALUE=DATE:20230702
DTEND;VALUE=DATE:20230711
DTSTAMP:20260422T122249
CREATED:20230321T194609Z
LAST-MODIFIED:20230321T194609Z
UID:3522-1688259600-1688950799@artq.ca
SUMMARY:Championnat de double Fradette Sport
DESCRIPTION:Surface : terre battue\nCatégories : Double masculin\, féminin et mixte AA\, A\, B\, C\nCoût : 30 $ / catégorie / personne et 50 $ pour deux catégories\nMaximum de 2 catégories\, balles fournies\, 2 matchs garantis\nDate limite d’inscription :mercredi 28 juin\nInscription (via site web) : tennisats.quebec/tournois\nInformation : 581 300-4323 ou info@tennisats.quebec \n
URL:https://artq.ca/event/championnat-de-double-fradette-sport-2/
LOCATION:Parc St-Charles-Garnier et parc Falaise\, Sillery\, Canada
CATEGORIES:Tournois
ORGANIZER;CN="ATS":MAILTO:info@tennisats.quebec
END:VEVENT
BEGIN:VEVENT
DTSTART;TZID=America/Toronto:20230708T140000
DTEND;TZID=America/Toronto:20230708T210000
DTSTAMP:20260422T122249
CREATED:20230417T203756Z
LAST-MODIFIED:20230417T203756Z
UID:3548-1688824800-1688850000@artq.ca
SUMMARY:L2 Tennis tournoi adulte #2
DESCRIPTION:Catégorie : adultes. \nFormule (sur ½ journée) :  \n\ntableaux de 8 joueurs\n2 matchs minimum par joueur\n2 manches de 4 jeux (bris de 7 points à 3-3) sans avantage avec bris de 7 points comme 3ième manche\nEnviron 45 minutes par match\n\nInscription : https://l2tennis.proinscription.com/inscription\nDate limite d’inscription : lundi 3 juillet \n
URL:https://artq.ca/event/l2-tennis-tournoi-adulte-2/
LOCATION:Club de tennis Beauport Ouest\, 3300 chemin Royal\, Québec\, G1E 1V6
CATEGORIES:Tournois
ORGANIZER;CN="L2%20Tennis":MAILTO:l2tennis@hotmail.com
END:VEVENT
END:VCALENDAR