BEGIN:VCALENDAR
VERSION:2.0
PRODID:-//ARTQ - ECPv5.1.4//NONSGML v1.0//EN
CALSCALE:GREGORIAN
METHOD:PUBLISH
X-WR-CALNAME:ARTQ
X-ORIGINAL-URL:https://artq.ca
X-WR-CALDESC:Événements pour ARTQ
BEGIN:VTIMEZONE
TZID:America/Toronto
BEGIN:DAYLIGHT
TZOFFSETFROM:-0500
TZOFFSETTO:-0400
TZNAME:EDT
DTSTART:20230312T070000
END:DAYLIGHT
BEGIN:STANDARD
TZOFFSETFROM:-0400
TZOFFSETTO:-0500
TZNAME:EST
DTSTART:20231105T060000
END:STANDARD
END:VTIMEZONE
BEGIN:VEVENT
DTSTART;VALUE=DATE:20230612
DTEND;VALUE=DATE:20230620
DTSTAMP:20260422T134810
CREATED:20230321T182924Z
LAST-MODIFIED:20230321T182924Z
UID:3518-1686531600-1687136399@artq.ca
SUMMARY:La Coupe de double du Tracel
DESCRIPTION:Surface : Rapide et dure\nFormule : gagnants / perdants  (deux matchs assurés)\nCatégories : Double Hommes A et B\n                        Double Femmes A et B\n                        Double Mixte A et B\nCoût : 25$ par personne (15$ pour une 2e catégorie)\nRestriction : Une par équipe (aucune pour la fin de semaine des finales)\nCourriel : tennistracel@gmail.com\nsite web : tennisdutracel.ca\nDate limite d’inscription : 7 juin\nInscription : https://tennisenligne.ca/coupededoubledutracel2023\nResponsable : Éric Lachance \n
URL:https://artq.ca/event/la-coupe-de-double-du-tracel-3/
LOCATION:Parc du Plateau\, 4575 Promenade des Soeurs\, Cap-Rouge
CATEGORIES:Tournois
ORGANIZER;CN="Club%20de%20tennis%20du%20Tracel":MAILTO:tennistracel@gmail.com
END:VEVENT
BEGIN:VEVENT
DTSTART;TZID=America/Toronto:20230617T140000
DTEND;TZID=America/Toronto:20230617T210000
DTSTAMP:20260422T134810
CREATED:20230417T202101Z
LAST-MODIFIED:20230417T202644Z
UID:3540-1687010400-1687035600@artq.ca
SUMMARY:L2 Tennis tournoi junior #1
DESCRIPTION:Catégorie : 10-17 ans. \nFormule (sur ½ journée) :  \n\ntableaux de 8 joueurs\n2 matchs minimum par joueur\n2 manches de 4 jeux (bris de 7 points à 3-3) sans avantage avec bris de 7 points comme 3ième manche\nEnviron 45 minutes par match\n\nInscription : https://l2tennis.proinscription.com/inscription\nDate limite d’inscription : lundi 12 juin \n
URL:https://artq.ca/event/l2-tennis-tournoi-junior-1/
LOCATION:Club de tennis de L’Ancienne-Lorette\, 1307 Rue des Loisirs E\, L'Ancienne-Lorette\, G2E 0A5
CATEGORIES:Tournois
ORGANIZER;CN="L2%20Tennis":MAILTO:l2tennis@hotmail.com
END:VEVENT
END:VCALENDAR