BEGIN:VCALENDAR
VERSION:2.0
PRODID:-//ARTQ - ECPv5.1.4//NONSGML v1.0//EN
CALSCALE:GREGORIAN
METHOD:PUBLISH
X-WR-CALNAME:ARTQ
X-ORIGINAL-URL:https://artq.ca
X-WR-CALDESC:Événements pour ARTQ
BEGIN:VTIMEZONE
TZID:America/Toronto
BEGIN:DAYLIGHT
TZOFFSETFROM:-0500
TZOFFSETTO:-0400
TZNAME:EDT
DTSTART:20230312T070000
END:DAYLIGHT
BEGIN:STANDARD
TZOFFSETFROM:-0400
TZOFFSETTO:-0500
TZNAME:EST
DTSTART:20231105T060000
END:STANDARD
END:VTIMEZONE
BEGIN:VEVENT
DTSTART;VALUE=DATE:20230531
DTEND;VALUE=DATE:20230611
DTSTAMP:20260422T135120
CREATED:20230502T184538Z
LAST-MODIFIED:20230502T184538Z
UID:3571-1685494800-1686358799@artq.ca
SUMMARY:Tournoi Louis Després Invitation 2023
DESCRIPTION:Catégories : \n\nHommes : classe ouverte sanctionnée (36 joueurs)\nHommes : classe A-B non sanctionnée (64 joueurs)\nFemmes : classe ouverte sanctionnée (20 joueuses)\nFemmes : classe A-B non sanctionnée (16 joueuses)\n\nNiveau de sanction : Open 200\nCoût : classe ouverte 64$ + taxes; classe A-B 54$ + taxes\nDate limite d’inscription : vendredi 19 mai à 12 h\nInscription : sur le site de Tennis Québec (https://tq.tournamentsoftware.com/)\nInformations : Hélène Lefaivre\, tournoi.louis.despres@gmail.com \n
URL:https://artq.ca/event/tournoi-louis-despres-invitation-2023/
LOCATION:Club Avantage multi-sports\, 1080 rue Bouvier\, Québec\, QC\, G2K 1L9\, Canada
CATEGORIES:Tournois
ORGANIZER;CN="Tournoi%20Louis%20Despr%C3%A9s":MAILTO:tournoi.louis.despres@gmail.com
END:VEVENT
BEGIN:VEVENT
DTSTART;VALUE=DATE:20230609
DTEND;VALUE=DATE:20230614
DTSTAMP:20260422T135120
CREATED:20230428T175113Z
LAST-MODIFIED:20230428T175113Z
UID:3569-1686272400-1686617999@artq.ca
SUMMARY:Championnat provincial 18 ans (étape 1)
DESCRIPTION:Catégorie : U 18\, 4*\, 58 garçons et 58 filles\nQualifications : 26 au 28 mai; tournoi : 10 au 12 juin\nCoût : 60 $\nInscription : sur le site de Tennis Québec (https://tq.tournamentsoftware.com/)\nPériode d’inscription : du mardi 25 avril au jeudi 11 mai \n
URL:https://artq.ca/event/championnat-provincial-18-ans-etape-1/
LOCATION:Centre Delphis Marois\, 300 rue de l’Entrain\, Saint-Augustin-de-Desmaures\, G3A 1L6
CATEGORIES:Tournois
ORGANIZER;CN="Complexe%20tennis%20St-Augustin":MAILTO:info@tennis-sa.com
END:VEVENT
END:VCALENDAR