BEGIN:VCALENDAR
VERSION:2.0
PRODID:-//ARTQ - ECPv5.1.4//NONSGML v1.0//EN
CALSCALE:GREGORIAN
METHOD:PUBLISH
X-WR-CALNAME:ARTQ
X-ORIGINAL-URL:https://artq.ca
X-WR-CALDESC:Événements pour ARTQ
BEGIN:VTIMEZONE
TZID:America/Toronto
BEGIN:DAYLIGHT
TZOFFSETFROM:-0500
TZOFFSETTO:-0400
TZNAME:EDT
DTSTART:20210314T070000
END:DAYLIGHT
BEGIN:STANDARD
TZOFFSETFROM:-0400
TZOFFSETTO:-0500
TZNAME:EST
DTSTART:20211107T060000
END:STANDARD
END:VTIMEZONE
BEGIN:VEVENT
DTSTART;VALUE=DATE:20210813
DTEND;VALUE=DATE:20210817
DTSTAMP:20260423T204313
CREATED:20210718T163417Z
LAST-MODIFIED:20210718T163417Z
UID:3287-1628816400-1629075599@artq.ca
SUMMARY:Circuit Rouge et Or Audi - étape 3
DESCRIPTION:13 août 2021 (double)\n14-15 août 2021 (simple) \nSimple et double masculin et féminin AA \nInscription Simple: Sur le site www.tennis.qc.ca\n            Maximum de 32 hommes et 16 femmes\nInscription Double : Par courriel à Jacques Bordeleau (bordy2000@hotmail.com)\n          Maximum de 16 équipes masculines et 8 équipes féminines \n
URL:https://artq.ca/event/circuit-rouge-et-or-audi-etape-3/
LOCATION:Club de tennis Victoria\, 160 Rue du Cardinal-Maurice-Roy\, Québec\, QC\, G1K 8Z1
ORGANIZER;CN="R%26O%20Tennis":MAILTO:j-s_lavoie@hotmail.com
END:VEVENT
BEGIN:VEVENT
DTSTART;VALUE=DATE:20210814
DTEND;VALUE=DATE:20210817
DTSTAMP:20260423T204313
CREATED:20210622T173346Z
LAST-MODIFIED:20210622T173346Z
UID:3277-1628902800-1629075599@artq.ca
SUMMARY:CJBN - Étape 2
DESCRIPTION:CATÉGORIE  A  :  sanction provinciale ***;\n            U 10* (8 G + 8 F)\, U 12 (16 G + 8 F)\, U 14 (16 G + 8 F)\, U 18 (16 G + 8 F)\n             * U 10 G-F Circuit Futures Stars \nInscription : sur le site de Tennis Québec (https://tq.tournamentsoftware.com/)\nDate de début d’inscription : vendredi  23 juin 9 h\nDate limite d’inscription : mercredi 4 août 16 h\nInformation : Académie l’Échange info@academielechange.com \n
URL:https://artq.ca/event/cjbn-etape-2-2/
LOCATION:Club de tennis Shawinigan\, Shawinigan
CATEGORIES:Tournois
END:VEVENT
END:VCALENDAR