BEGIN:VCALENDAR
VERSION:2.0
PRODID:-//ARTQ - ECPv5.1.4//NONSGML v1.0//EN
CALSCALE:GREGORIAN
METHOD:PUBLISH
X-WR-CALNAME:ARTQ
X-ORIGINAL-URL:https://artq.ca
X-WR-CALDESC:Événements pour ARTQ
BEGIN:VTIMEZONE
TZID:America/Toronto
BEGIN:DAYLIGHT
TZOFFSETFROM:-0500
TZOFFSETTO:-0400
TZNAME:EDT
DTSTART:20210314T070000
END:DAYLIGHT
BEGIN:STANDARD
TZOFFSETFROM:-0400
TZOFFSETTO:-0500
TZNAME:EST
DTSTART:20211107T060000
END:STANDARD
END:VTIMEZONE
BEGIN:VEVENT
DTSTART;VALUE=DATE:20210702
DTEND;VALUE=DATE:20210706
DTSTAMP:20260423T213819
CREATED:20210615T180332Z
LAST-MODIFIED:20210615T183438Z
UID:3241-1625187600-1625446799@artq.ca
SUMMARY:Circuit Rouge et Or Audi - étape 1
DESCRIPTION:2 juillet 2021 (double)\n3-4 juillet 2021 (simple) \nSimple et double masculin et féminin AA \nInscription Simple: Sur le site www.tennis.qc.ca\n            Maximum de 32 hommes et 16 femmes\nInscription Double : Par courriel à Jacques Bordeleau (bordy2000@hotmail.com)\n          Maximum de 16 équipes masculines et 8 équipes féminines \n
URL:https://artq.ca/event/circuit-rouge-et-or-audi-etape-1/
LOCATION:Club de tennis Victoria\, 160 Rue du Cardinal-Maurice-Roy\, Québec\, QC\, G1K 8Z1
CATEGORIES:Tournois
ORGANIZER;CN="R%26O%20Tennis":MAILTO:j-s_lavoie@hotmail.com
END:VEVENT
BEGIN:VEVENT
DTSTART;VALUE=DATE:20210704
DTEND;VALUE=DATE:20210713
DTSTAMP:20260423T213819
CREATED:20210615T181933Z
LAST-MODIFIED:20210615T182623Z
UID:3245-1625360400-1626051599@artq.ca
SUMMARY:Championnat de double régional de l'ATS
DESCRIPTION:Parc Saint-Charles-Garnier et parc Falaise \nSurface en terre battue \nDOUBLE féminin\, masculin et mixte AA\, A\, B\, C \n2 matchs garantis\, balles fournies\, bourses et prix de présences \nCoût : 25 $/catégorie/personne  (20$ pour les membres de l’ATS)\, taxes incluses \nMaximum 2 catégories \nInsription sur le site de l’ATS \nDate limite d’inscription : jeudi  le 1er juillet \n
URL:https://artq.ca/event/championnat-de-double-regional-de-lats/
LOCATION:Parc St-Charles-Garnier et parc Falaise\, Sillery\, Canada
CATEGORIES:Tournois
ORGANIZER;CN="ATS":MAILTO:info@tennisats.quebec
END:VEVENT
END:VCALENDAR