BEGIN:VCALENDAR
VERSION:2.0
PRODID:-//ARTQ - ECPv5.1.4//NONSGML v1.0//EN
CALSCALE:GREGORIAN
METHOD:PUBLISH
X-WR-CALNAME:ARTQ
X-ORIGINAL-URL:https://artq.ca
X-WR-CALDESC:Événements pour ARTQ
BEGIN:VTIMEZONE
TZID:America/Toronto
BEGIN:DAYLIGHT
TZOFFSETFROM:-0500
TZOFFSETTO:-0400
TZNAME:EDT
DTSTART:20200308T070000
END:DAYLIGHT
BEGIN:STANDARD
TZOFFSETFROM:-0400
TZOFFSETTO:-0500
TZNAME:EST
DTSTART:20201101T060000
END:STANDARD
END:VTIMEZONE
BEGIN:VEVENT
DTSTART;VALUE=DATE:20200704
DTEND;VALUE=DATE:20200707
DTSTAMP:20260424T113528
CREATED:20200526T160922Z
LAST-MODIFIED:20200625T180301Z
UID:583-1593828000-1594000799@artq.ca
SUMMARY:CJBN - Étape 16 (annulé)
DESCRIPTION:CATÉGORIE  « A » : sanction provinciale ***;  U 10 G-F*\, U 12 G-F\, U 14 G-F\, U 16-18 G-F \n* U 10 G-F Circuit Futures Stars\nLimite de 12 G et 8 F par catégorie \nInscription : sur le site de Tennis Québec https://tq.tournamentsoftware.com/\nDate de début d’inscription : lundi  11 mai 9 h\nDate limite d’inscription : mercredi 24 juin 16 h\nInformation : Charles Loranger cloranger@tennis3r.com \n
URL:https://artq.ca/event/cjbn-etape-16/
LOCATION:Tennis 3R\, Trois-Rivières
CATEGORIES:Tournois
END:VEVENT
BEGIN:VEVENT
DTSTART;VALUE=DATE:20200706
DTEND;VALUE=DATE:20200714
DTSTAMP:20260424T113528
CREATED:20200526T172609Z
LAST-MODIFIED:20200526T174356Z
UID:610-1593997200-1594601999@artq.ca
SUMMARY:Championnat de double Babolat/Fradette Sport (annulé)
DESCRIPTION:Surface : terre battue\nCatégories : \nDouble masculin AA\, A\, B\, C\nDouble féminin A\, B\nDouble mixte A\, B \nCoût : 25 $ / catégorie / personne (taxes incluses)\nMaximum de 2 catégories\, balles fournies\, 2 matchs garantis\nDate limite d’inscription : jeudi 2 juillet\nInscription (via site web) : tennisats.quebec/tournois\nInformation : \nclub Saint-Charles-Garnier\, 418 684-2128\npar courriel à info@tennisats.quebec \n
URL:https://artq.ca/event/championnat-de-double-babolat-fradette-sport/
LOCATION:Parc St-Charles-Garnier et parc Falaise\, Sillery\, Canada
CATEGORIES:Tournois
ORGANIZER;CN="ATS":MAILTO:info@tennisats.quebec
END:VEVENT
END:VCALENDAR