BEGIN:VCALENDAR
VERSION:2.0
PRODID:-//ARTQ - ECPv5.1.4//NONSGML v1.0//EN
CALSCALE:GREGORIAN
METHOD:PUBLISH
X-WR-CALNAME:ARTQ
X-ORIGINAL-URL:https://artq.ca
X-WR-CALDESC:Événements pour ARTQ
BEGIN:VTIMEZONE
TZID:America/Toronto
BEGIN:DAYLIGHT
TZOFFSETFROM:-0500
TZOFFSETTO:-0400
TZNAME:EDT
DTSTART:20200308T070000
END:DAYLIGHT
BEGIN:STANDARD
TZOFFSETFROM:-0400
TZOFFSETTO:-0500
TZNAME:EST
DTSTART:20201101T060000
END:STANDARD
END:VTIMEZONE
BEGIN:VEVENT
DTSTART;VALUE=DATE:20200208
DTEND;VALUE=DATE:20200209
DTSTAMP:20260424T171345
CREATED:20200525T220516Z
LAST-MODIFIED:20200525T220516Z
UID:551-1581120000-1581206399@artq.ca
SUMMARY:CJBN - Étape7
DESCRIPTION:CATÉGORIE  « B » : sanction régionale **; \nU 10 (4 G + 4 F)\, U 12 (4 G + 4 F)\, U 18 (4 G + 4 F) \nInscription sur site de tennis Québec https://tq.tournamentsoftware.com/\nDate de début d’inscription : lundi 16 décembre 9 h\nDate limite d’inscription : mercredi 29 janvier 16 h\nInformation: Charles Loranger cloranger@tennis3r.com \n
URL:https://artq.ca/event/cjbn-etape7/
LOCATION:Tennis 3R\, Trois-Rivières
CATEGORIES:Tournois
END:VEVENT
BEGIN:VEVENT
DTSTART;VALUE=DATE:20200208
DTEND;VALUE=DATE:20200210
DTSTAMP:20260424T171345
CREATED:20200525T221005Z
LAST-MODIFIED:20200525T221005Z
UID:554-1581120000-1581292799@artq.ca
SUMMARY:CJBN - Étape 8
DESCRIPTION:CATÉGORIE  « A » : sanction provinciale ***; \nU 12 (14 G + 12 F)\, U 14 (10 G + 10 F)\, U 18 (10 G + 8 F) \nInscription sur site de tennis Québec https://tq.tournamentsoftware.com/\nDate de début d’inscription : lundi 16 décembre 9 h\nDate limite d’inscription : mercredi 29 janvier 16 h\nInformation: Nathalie Blanchet nathbl76@hotmail.com \n
URL:https://artq.ca/event/cjbn-etape-8/
LOCATION:Comlexe Sani Marc\, Victoriaville
END:VEVENT
END:VCALENDAR