BEGIN:VCALENDAR
VERSION:2.0
PRODID:-//ARTQ - ECPv5.1.4//NONSGML v1.0//EN
CALSCALE:GREGORIAN
METHOD:PUBLISH
X-WR-CALNAME:ARTQ
X-ORIGINAL-URL:https://artq.ca
X-WR-CALDESC:Événements pour ARTQ
BEGIN:VTIMEZONE
TZID:America/Toronto
BEGIN:DAYLIGHT
TZOFFSETFROM:-0500
TZOFFSETTO:-0400
TZNAME:EDT
DTSTART:20200308T070000
END:DAYLIGHT
BEGIN:STANDARD
TZOFFSETFROM:-0400
TZOFFSETTO:-0500
TZNAME:EST
DTSTART:20201101T060000
END:STANDARD
END:VTIMEZONE
BEGIN:VEVENT
DTSTART;VALUE=DATE:20200118
DTEND;VALUE=DATE:20200120
DTSTAMP:20260424T182758
CREATED:20200525T220101Z
LAST-MODIFIED:20200525T220101Z
UID:547-1579305600-1579478399@artq.ca
SUMMARY:CJBN - Étape 6
DESCRIPTION:CATÉGORIE  « A » : sanction provinciale ***; \nU 12 (8 G + 8 F)\, U 14 (12 G + 8 F)\, U 18 (16 G + 8 F) \nInscription sur site de tennis Québec https://tq.tournamentsoftware.com/\nDate de début d’inscription : lundi 25 novembre 9h\nDate limite d’inscription : mercredi 8 janvier 16 h\nInformation: Charles Loranger cloranger@tennis3r.com \n
URL:https://artq.ca/event/cjbn-etape-6/
LOCATION:Tennis 3R\, Trois-Rivières
CATEGORIES:Tournois
END:VEVENT
END:VCALENDAR