BEGIN:VCALENDAR
VERSION:2.0
PRODID:-//ARTQ - ECPv5.1.4//NONSGML v1.0//EN
CALSCALE:GREGORIAN
METHOD:PUBLISH
X-WR-CALNAME:ARTQ
X-ORIGINAL-URL:https://artq.ca
X-WR-CALDESC:Événements pour ARTQ
BEGIN:VTIMEZONE
TZID:America/Toronto
BEGIN:DAYLIGHT
TZOFFSETFROM:-0500
TZOFFSETTO:-0400
TZNAME:EDT
DTSTART:20190310T070000
END:DAYLIGHT
BEGIN:STANDARD
TZOFFSETFROM:-0400
TZOFFSETTO:-0500
TZNAME:EST
DTSTART:20191103T060000
END:STANDARD
END:VTIMEZONE
BEGIN:VEVENT
DTSTART;VALUE=DATE:20191207
DTEND;VALUE=DATE:20191208
DTSTAMP:20260424T192149
CREATED:20200525T214427Z
LAST-MODIFIED:20200525T214558Z
UID:538-1575676800-1575763199@artq.ca
SUMMARY:CJBN - Étape 4
DESCRIPTION:CATÉGORIE  « B » : sanction régionale **; \nU 12 (8 G + 4 F)\, U 14 (8 G + 0 F)\, U 18 (4 G + 0 F) \nInscription sur site de tennis Québec https://tq.tournamentsoftware.com/\nDate de début d’inscription : lundi 14 octobre 9 h\nDate limite d’inscription : mercredi 27 novembre 16 h\nInformation: Richard Dulac tennisregional@globetrotter.net \n
URL:https://artq.ca/event/cjbn-etape-4/
LOCATION:Tennis de Beauce
CATEGORIES:Tournois
END:VEVENT
END:VCALENDAR