BEGIN:VCALENDAR
VERSION:2.0
PRODID:-//ARTQ - ECPv5.1.4//NONSGML v1.0//EN
CALSCALE:GREGORIAN
METHOD:PUBLISH
X-WR-CALNAME:ARTQ
X-ORIGINAL-URL:https://artq.ca
X-WR-CALDESC:Événements pour ARTQ
BEGIN:VTIMEZONE
TZID:America/Toronto
BEGIN:DAYLIGHT
TZOFFSETFROM:-0500
TZOFFSETTO:-0400
TZNAME:EDT
DTSTART:20190310T070000
END:DAYLIGHT
BEGIN:STANDARD
TZOFFSETFROM:-0400
TZOFFSETTO:-0500
TZNAME:EST
DTSTART:20191103T060000
END:STANDARD
END:VTIMEZONE
BEGIN:VEVENT
DTSTART;VALUE=DATE:20191130
DTEND;VALUE=DATE:20191202
DTSTAMP:20260424T202352
CREATED:20200525T213230Z
LAST-MODIFIED:20200525T214934Z
UID:533-1575072000-1575244799@artq.ca
SUMMARY:CJBN - Étape 3
DESCRIPTION:CATÉGORIE  « A » : sanction provinciale ***; \nU 10* (8 G + 8 F)\, U 12 (12 G + 12 F)\, U 14 (12 G + 12 F)\, U 18 (12 G + 12 F)\n* U 10 G-F Circuit Futures Stars \nInscription sur site de tennis Québec https://tq.tournamentsoftware.com/\nDate de début d’inscription : lundi 7 octobre 9 h\nDate limite d’inscription : mercredi 20 novembre 16 h\nInformation: Marquis Falardeau falardeau.marquis@gmail.com \n
URL:https://artq.ca/event/cjbn-etape-3/
LOCATION:Club Avantage multi-sports\, 1080 rue Bouvier\, Québec\, QC\, G2K 1L9\, Canada
CATEGORIES:Tournois
END:VEVENT
END:VCALENDAR