BEGIN:VCALENDAR
VERSION:2.0
PRODID:-//ARTQ - ECPv5.1.4//NONSGML v1.0//EN
CALSCALE:GREGORIAN
METHOD:PUBLISH
X-WR-CALNAME:ARTQ
X-ORIGINAL-URL:https://artq.ca
X-WR-CALDESC:Événements pour ARTQ
BEGIN:VTIMEZONE
TZID:America/Toronto
BEGIN:DAYLIGHT
TZOFFSETFROM:-0500
TZOFFSETTO:-0400
TZNAME:EDT
DTSTART:20220313T070000
END:DAYLIGHT
BEGIN:STANDARD
TZOFFSETFROM:-0400
TZOFFSETTO:-0500
TZNAME:EST
DTSTART:20221106T060000
END:STANDARD
END:VTIMEZONE
BEGIN:VEVENT
DTSTART;TZID=America/Toronto:20220513T183000
DTEND;TZID=America/Toronto:20220513T220000
DTSTAMP:20260423T053524
CREATED:20211121T222904Z
LAST-MODIFIED:20211121T222904Z
UID:3307-1652466600-1652479200@artq.ca
SUMMARY:Stage de formation d’instructeur 2022
DESCRIPTION:Dates : \nVendredi 6 mai (18h30 à 22h)\nSamedi et dimanche 7-8 mai (9h à 17h)\nVendredi 13 mai (18h30 à 22h)\nSamedi et dimanche 14-15 mai (9h à 17h) \nNombre de participants : entre 8 et 26\nDirecteur du stage : Hugues Laverdière (noubiz@hotmail.com)\nÂge requis : 16 ans ou plus avant la fin de l’année\nCoût : 580$\nDate limite d’inscription : 20 avril 2022 \n
URL:https://artq.ca/event/stage-de-formation-dinstructeur-2022-4/
LOCATION:Cité Sportive\, 345\, rue Aubert\, Lévis\, QC\, G6C 1K7\, Canada
END:VEVENT
END:VCALENDAR