BEGIN:VCALENDAR
VERSION:2.0
PRODID:-//ARTQ - ECPv5.1.4//NONSGML v1.0//EN
CALSCALE:GREGORIAN
METHOD:PUBLISH
X-WR-CALNAME:ARTQ
X-ORIGINAL-URL:https://artq.ca
X-WR-CALDESC:Événements pour ARTQ
BEGIN:VTIMEZONE
TZID:America/Toronto
BEGIN:DAYLIGHT
TZOFFSETFROM:-0500
TZOFFSETTO:-0400
TZNAME:EDT
DTSTART:20220313T070000
END:DAYLIGHT
BEGIN:STANDARD
TZOFFSETFROM:-0400
TZOFFSETTO:-0500
TZNAME:EST
DTSTART:20221106T060000
END:STANDARD
END:VTIMEZONE
BEGIN:VEVENT
DTSTART;TZID=America/Toronto:20220521T090000
DTEND;TZID=America/Toronto:20220521T160000
DTSTAMP:20260422T052552
CREATED:20220328T220721Z
LAST-MODIFIED:20220328T221246Z
UID:3380-1653123600-1653148800@artq.ca
SUMMARY:Formation FRAPPE 1
DESCRIPTION:Niveau : Formation de Processus d’apprentissage FRAPPE 1 (classe mixte).\nDate : Samedi 21 mai 2022 de 9 h à 16 h.\nNombre de participants : maximum 10.\nDirecteur du stage : Simon Légaré\, entraîneur certifié niveau 3 par Tennis Québec.\nDurée : Formation en ligne de 2 heures + formation sur le terrain de 6 heures.\nCoût : 150 $ + 30 $ pour une formation en ligne sur la sécurité dans le sport (ceci exclus les frais pour l’accès aux plans de cours).\nInformations et inscription : http://www.processusfrappe.com/. \n
URL:https://artq.ca/event/formation-frappe-1/
LOCATION:Complexe tennis St-Augustin\, 310 rue de Rotterdam\, Saint-Augustin-de-Desmaures\, QC\, G3A 1T4
END:VEVENT
END:VCALENDAR