BEGIN:VCALENDAR
VERSION:2.0
PRODID:-//ARTQ - ECPv5.1.4//NONSGML v1.0//EN
CALSCALE:GREGORIAN
METHOD:PUBLISH
X-WR-CALNAME:ARTQ
X-ORIGINAL-URL:https://artq.ca
X-WR-CALDESC:Événements pour ARTQ
BEGIN:VTIMEZONE
TZID:America/Toronto
BEGIN:DAYLIGHT
TZOFFSETFROM:-0500
TZOFFSETTO:-0400
TZNAME:EDT
DTSTART:20190310T070000
END:DAYLIGHT
BEGIN:STANDARD
TZOFFSETFROM:-0400
TZOFFSETTO:-0500
TZNAME:EST
DTSTART:20191103T060000
END:STANDARD
END:VTIMEZONE
BEGIN:VEVENT
DTSTART;VALUE=DATE:20191214
DTEND;VALUE=DATE:20191216
DTSTAMP:20260424T193533
CREATED:20200525T215520Z
LAST-MODIFIED:20200525T215520Z
UID:543-1576281600-1576454399@artq.ca
SUMMARY:CJBN - Étape 5
DESCRIPTION:CATÉGORIE  « A » : sanction provinciale ***; \nU 10* (12 G + 4 F)\, U 12 (12 G + 6 F)\, U 14 (12 G + 8 F)\, U 18 (16 G + 12 F)\n* U 10 G-F Circuit Futures Stars \nInscription sur site de tennis Québec https://tq.tournamentsoftware.com/\nDate de début d’inscription : lundi 21 octobre 9 h\nDate limite d’inscription : mercredi 4 décembre 16 h\nInformation: Anne Veillette  anneveillette_@hotmail.com \n
URL:https://artq.ca/event/cjbn-etape-5/
LOCATION:Tennis René-Verrier\, Drummondville
CATEGORIES:Tournois
END:VEVENT
END:VCALENDAR