BEGIN:VCALENDAR
VERSION:2.0
PRODID:-//ARTQ - ECPv5.1.4//NONSGML v1.0//EN
CALSCALE:GREGORIAN
METHOD:PUBLISH
X-WR-CALNAME:ARTQ
X-ORIGINAL-URL:https://artq.ca
X-WR-CALDESC:Événements pour ARTQ
BEGIN:VTIMEZONE
TZID:America/Toronto
BEGIN:DAYLIGHT
TZOFFSETFROM:-0500
TZOFFSETTO:-0400
TZNAME:EDT
DTSTART:20220313T070000
END:DAYLIGHT
BEGIN:STANDARD
TZOFFSETFROM:-0400
TZOFFSETTO:-0500
TZNAME:EST
DTSTART:20221106T060000
END:STANDARD
END:VTIMEZONE
BEGIN:VEVENT
DTSTART;VALUE=DATE:20220805
DTEND;VALUE=DATE:20220809
DTSTAMP:20260421T083842
CREATED:20220517T160201Z
LAST-MODIFIED:20220517T160201Z
UID:3425-1659661200-1659920399@artq.ca
SUMMARY:CJBN : étape 4
DESCRIPTION:CATÉGORIE  A : sanction provinciale ***;\nInscription : sur le site de Tennis Québec (https://tq.tournamentsoftware.com/)\nInformation: Académie de tennis l’Échange\, www.academielechange.com\n            Charles Loranger\, cloranger@tennis3r.com \n
URL:https://artq.ca/event/cjbn-etape-4-2/
LOCATION:Tennis 3R\, Trois-Rivières
CATEGORIES:Tournois
END:VEVENT
END:VCALENDAR