BEGIN:VCALENDAR
VERSION:2.0
PRODID:-//ARTQ - ECPv5.1.4//NONSGML v1.0//EN
CALSCALE:GREGORIAN
METHOD:PUBLISH
X-WR-CALNAME:ARTQ
X-ORIGINAL-URL:https://artq.ca
X-WR-CALDESC:Événements pour ARTQ
BEGIN:VTIMEZONE
TZID:America/Toronto
BEGIN:DAYLIGHT
TZOFFSETFROM:-0500
TZOFFSETTO:-0400
TZNAME:EDT
DTSTART:20220313T070000
END:DAYLIGHT
BEGIN:STANDARD
TZOFFSETFROM:-0400
TZOFFSETTO:-0500
TZNAME:EST
DTSTART:20221106T060000
END:STANDARD
END:VTIMEZONE
BEGIN:VEVENT
DTSTART;VALUE=DATE:20220716
DTEND;VALUE=DATE:20220719
DTSTAMP:20260421T104133
CREATED:20220517T155914Z
LAST-MODIFIED:20220517T155914Z
UID:3423-1657933200-1658105999@artq.ca
SUMMARY:CJBN : étape 3
DESCRIPTION:CATÉGORIE  A : sanction provinciale ***;\nCATÉGORIE  B  : sanction régionale **;\nInscription : sur le site de Tennis Québec (https://tq.tournamentsoftware.com/)\nInformation : jeremy.boulet@icloud.com ou 418 234-3745\,\n              Patrick Vachon\, 418-248-3361 poste 2114\, pvachon@ville.montmagny.qc.ca \n
URL:https://artq.ca/event/cjbn-etape-3-2/
LOCATION:Club de tennis de Montmagny\, Montmagny
CATEGORIES:Tournois
END:VEVENT
END:VCALENDAR