BEGIN:VCALENDAR
VERSION:2.0
PRODID:-//ARTQ - ECPv5.1.4//NONSGML v1.0//EN
CALSCALE:GREGORIAN
METHOD:PUBLISH
X-WR-CALNAME:ARTQ
X-ORIGINAL-URL:https://artq.ca
X-WR-CALDESC:Événements pour ARTQ
BEGIN:VTIMEZONE
TZID:America/Toronto
BEGIN:DAYLIGHT
TZOFFSETFROM:-0500
TZOFFSETTO:-0400
TZNAME:EDT
DTSTART:20200308T070000
END:DAYLIGHT
BEGIN:STANDARD
TZOFFSETFROM:-0400
TZOFFSETTO:-0500
TZNAME:EST
DTSTART:20201101T060000
END:STANDARD
END:VTIMEZONE
BEGIN:VEVENT
DTSTART;VALUE=DATE:20200718
DTEND;VALUE=DATE:20200721
DTSTAMP:20260424T115024
CREATED:20200526T162251Z
LAST-MODIFIED:20200625T180719Z
UID:590-1595037600-1595210399@artq.ca
SUMMARY:CJBN - Étape 18 (annulé)
DESCRIPTION:CATÉGORIE  « A » : sanction provinciale ***; \nU 10 * (4 G + 4 F)\, U 12 (4 G + 4 F)\, U 14 (4 G + 4 F)\, U 18 (12 G + 4 F)\n* U 10 G-F Circuit Futures Stars \nCATÉGORIE  « B » : sanction régionale **;  U 14 (8 G + 4 F)\, U 18 (8 G + 4 F) \nInscription : sur le site de Tennis Québec https://tq.tournamentsoftware.com/\nDate de début d’inscription : lundi 25 mai 9 h\nDate limite d’inscription : mercredi 8 juillet 16 h\nInformation : jeremy.boulet@icloud.com ou 418 234-3745 \n* Le tournoi compte comme 2 participations pour le Grand Prix \n
URL:https://artq.ca/event/cjbn-etape-18/
LOCATION:Club de tennis de Montmagny\, Montmagny
CATEGORIES:Tournois
END:VEVENT
END:VCALENDAR