BEGIN:VCALENDAR
VERSION:2.0
PRODID:-//ARTQ - ECPv5.1.4//NONSGML v1.0//EN
CALSCALE:GREGORIAN
METHOD:PUBLISH
X-WR-CALNAME:ARTQ
X-ORIGINAL-URL:https://artq.ca
X-WR-CALDESC:Événements pour ARTQ
BEGIN:VTIMEZONE
TZID:America/Toronto
BEGIN:DAYLIGHT
TZOFFSETFROM:-0500
TZOFFSETTO:-0400
TZNAME:EDT
DTSTART:20200308T070000
END:DAYLIGHT
BEGIN:STANDARD
TZOFFSETFROM:-0400
TZOFFSETTO:-0500
TZNAME:EST
DTSTART:20201101T060000
END:STANDARD
END:VTIMEZONE
BEGIN:VEVENT
DTSTART;VALUE=DATE:20200418
DTEND;VALUE=DATE:20200421
DTSTAMP:20260424T150253
CREATED:20200526T160102Z
LAST-MODIFIED:20200526T160102Z
UID:577-1587171600-1587344399@artq.ca
SUMMARY:CJBN - Étape 14 (annulé)
DESCRIPTION:CATÉGORIE  « B » : sanction régionale **; \nSamedi : U 12 G (8 G)\,  U 14 F  (8 F)\,  U 18 G (8 G)\nDimanche : U 12 F  (8 F)\,   U 14  G (8 G)\,  U 18 F (8 F) \nInscription sur site de tennis Québec https://tq.tournamentsoftware.com/\nDate de début d’inscription : lundi 24 février 9 h\nDate limite d’inscription : mercredi 8 avril 16 h\nInformation: Nathalie Blanchet nathbl76@hotmail.com \n
URL:https://artq.ca/event/cjbn-etape-14-annule/
LOCATION:Comlexe Sani Marc\, Victoriaville
CATEGORIES:Tournois
END:VEVENT
END:VCALENDAR