BEGIN:VCALENDAR
VERSION:2.0
PRODID:-//ARTQ - ECPv5.1.4//NONSGML v1.0//EN
CALSCALE:GREGORIAN
METHOD:PUBLISH
X-WR-CALNAME:ARTQ
X-ORIGINAL-URL:https://artq.ca
X-WR-CALDESC:Événements pour ARTQ
BEGIN:VTIMEZONE
TZID:America/Toronto
BEGIN:DAYLIGHT
TZOFFSETFROM:-0500
TZOFFSETTO:-0400
TZNAME:EDT
DTSTART:20200308T070000
END:DAYLIGHT
BEGIN:STANDARD
TZOFFSETFROM:-0400
TZOFFSETTO:-0500
TZNAME:EST
DTSTART:20201101T060000
END:STANDARD
END:VTIMEZONE
BEGIN:VEVENT
DTSTART;VALUE=DATE:20200301
DTEND;VALUE=DATE:20200302
DTSTAMP:20260424T160952
CREATED:20200525T223618Z
LAST-MODIFIED:20200525T223742Z
UID:561-1583020800-1583107199@artq.ca
SUMMARY:CJBN - Étape 10
DESCRIPTION:CATÉGORIE  « B » : sanction régionale **; \nU 12 (8 G + 4 F)\, U 14 (8 G + 4 F)\, U 18 (8 G + 0 F) \nInscription sur site de tennis Québec https://tq.tournamentsoftware.com/\nDate de début d’inscription : lundi 13 janvier 9 h\nDate limite d’inscription : mercredi 19 février 16 h\nInformation: Richard Dulac tennisregional@globetrotter.net \n
URL:https://artq.ca/event/cjbn-etape-10/
LOCATION:Tennis de Beauce
CATEGORIES:Tournois
END:VEVENT
END:VCALENDAR