BEGIN:VCALENDAR
VERSION:2.0
PRODID:-//ARTQ - ECPv5.1.4//NONSGML v1.0//EN
CALSCALE:GREGORIAN
METHOD:PUBLISH
X-WR-CALNAME:ARTQ
X-ORIGINAL-URL:https://artq.ca
X-WR-CALDESC:Événements pour ARTQ
BEGIN:VTIMEZONE
TZID:America/Toronto
BEGIN:DAYLIGHT
TZOFFSETFROM:-0500
TZOFFSETTO:-0400
TZNAME:EDT
DTSTART:20200308T070000
END:DAYLIGHT
BEGIN:STANDARD
TZOFFSETFROM:-0400
TZOFFSETTO:-0500
TZNAME:EST
DTSTART:20201101T060000
END:STANDARD
END:VTIMEZONE
BEGIN:VEVENT
DTSTART;VALUE=DATE:20200619
DTEND;VALUE=DATE:20200623
DTSTAMP:20260424T125222
CREATED:20200526T183039Z
LAST-MODIFIED:20200625T180052Z
UID:643-1592532000-1592791199@artq.ca
SUMMARY:Circuit R&O Audi - Étape 1 (annulé)
DESCRIPTION:Information et inscription : Jean-Sébastien Lavoie\, j-s_lavoie@hotmail.com \n
URL:https://artq.ca/event/circuit-ro-audi-etape-1/
CATEGORIES:Tournois
END:VEVENT
END:VCALENDAR