BEGIN:VCALENDAR
VERSION:2.0
PRODID:-//ARTQ - ECPv5.1.4//NONSGML v1.0//EN
CALSCALE:GREGORIAN
METHOD:PUBLISH
X-WR-CALNAME:ARTQ
X-ORIGINAL-URL:https://artq.ca
X-WR-CALDESC:Événements pour ARTQ
BEGIN:VTIMEZONE
TZID:America/Toronto
BEGIN:DAYLIGHT
TZOFFSETFROM:-0500
TZOFFSETTO:-0400
TZNAME:EDT
DTSTART:20220313T070000
END:DAYLIGHT
BEGIN:STANDARD
TZOFFSETFROM:-0400
TZOFFSETTO:-0500
TZNAME:EST
DTSTART:20221106T060000
END:STANDARD
END:VTIMEZONE
BEGIN:VEVENT
DTSTART;VALUE=DATE:20220703
DTEND;VALUE=DATE:20220712
DTSTAMP:20260421T143338
CREATED:20220516T225936Z
LAST-MODIFIED:20220516T230315Z
UID:3403-1656810000-1657501199@artq.ca
SUMMARY:Championnat de double Fradette Sport
DESCRIPTION:Surface : terre battue\nCatégories : Double masculin\, féminin et mixte AA\, A\, B\, C\nCoût : 30 $ / catégorie / personne et 50 $ pour deux catégories\nMaximum de 2 catégories\, balles fournies\, 2 matchs garantis\nDate limite d’inscription :mercredi 29 juin\nInscription (via site web) : tennisats.quebec/tournois\nInformation : – club Saint-Charles-Garnier\, 581 300-4323\n                         – par courriel à info@tennisats.quebec \n
URL:https://artq.ca/event/championnat-de-double-fradette-sport/
LOCATION:Parc St-Charles-Garnier et parc Falaise\, Sillery\, Canada
CATEGORIES:Tournois
ORGANIZER;CN="ATS":MAILTO:info@tennisats.quebec
END:VEVENT
END:VCALENDAR